BEGIN:VCALENDAR
VERSION:2.0
PRODID:-//Hildebrand Project - ECPv6.15.20//NONSGML v1.0//EN
CALSCALE:GREGORIAN
METHOD:PUBLISH
X-ORIGINAL-URL:https://hildebrandproject.org
X-WR-CALDESC:Events for Hildebrand Project
REFRESH-INTERVAL;VALUE=DURATION:PT1H
X-Robots-Tag:noindex
X-PUBLISHED-TTL:PT1H
BEGIN:VTIMEZONE
TZID:America/New_York
BEGIN:DAYLIGHT
TZOFFSETFROM:-0500
TZOFFSETTO:-0400
TZNAME:EDT
DTSTART:20200308T070000
END:DAYLIGHT
BEGIN:STANDARD
TZOFFSETFROM:-0400
TZOFFSETTO:-0500
TZNAME:EST
DTSTART:20201101T060000
END:STANDARD
BEGIN:DAYLIGHT
TZOFFSETFROM:-0500
TZOFFSETTO:-0400
TZNAME:EDT
DTSTART:20210314T070000
END:DAYLIGHT
BEGIN:STANDARD
TZOFFSETFROM:-0400
TZOFFSETTO:-0500
TZNAME:EST
DTSTART:20211107T060000
END:STANDARD
BEGIN:DAYLIGHT
TZOFFSETFROM:-0500
TZOFFSETTO:-0400
TZNAME:EDT
DTSTART:20220313T070000
END:DAYLIGHT
BEGIN:STANDARD
TZOFFSETFROM:-0400
TZOFFSETTO:-0500
TZNAME:EST
DTSTART:20221106T060000
END:STANDARD
END:VTIMEZONE
BEGIN:VEVENT
DTSTART;TZID=America/New_York:20211227T133000
DTEND;TZID=America/New_York:20211227T143000
DTSTAMP:20260424T040120
CREATED:20211203T221057Z
LAST-MODIFIED:20211203T183250Z
UID:757-1640611800-1640615400@hildebrandproject.org
SUMMARY:Jaws of Death: Gate of Heaven | Virtual Reading Group
DESCRIPTION:A four week reading group through Jaws of Death with Maria Wolter. \n\n\n\nMeetings will take place through Zoom over the course of four Mondays (Dec 27\, Jan 3\, Jan 10\, & Jan 17) from 1:30 – 2:30 PM ET. \n\n\n\nVirtual Format\n\n\n\nAll meetings will be conducted live in Zoom. Links for each session will be sent out ahead of time. \n\n\n\nTo allow for rich discussion\, the group is limited in size to a maximum of 20 participants. Once the group is full\, additional registrations will be placed on a waitlist. \n\n\n\nAll participants are expected to have a copy of the text and to come prepared to each session having done the weekly reading (15-45 pages per week). The weekly reading schedule is available on the right-hand sidebar. \n\n\n\n\n\n		All\n			\n						\n				   \n					 						 \n							Maria Wolter\n							\n								\nFranciscan University of Steubenville\, Austria ProgramProfessor of Philosophy \n\n\n\nDr. Wolter graduated with a B.A. in Philosophy\, Theology\, and History from Franciscan University of Steubenville. She pursued her M.A. in Philosophy\, as well as her STB\, M.A.\, and STL in Theology at the Katholieke Universiteit in Leuven (KUL)\, Belgium\, where she also received her Ph.D. in Philosophy. An Austrian-American national\, she returned to Austria upon receiving her present appointment at Franciscan University of Steubenville at its Study Abroad Program in Gaming\, Austria\, in 2007. \n\n\n\nResearch Areas: \n\n\n\nPhenomenology\, Modern and Renaissance Philosophy\, Axiology\, Personalism\, and Ethics.
URL:https://hildebrandproject.org/event/virtual-reading-group-what-is-philosophy/
CATEGORIES:Reading Group,What is Philosophy
ATTACH;FMTTYPE=image/jpeg:https://hildebrandproject.org/wp-content/uploads/2021/08/Jaws_Cover_3D_2.jpg
END:VEVENT
END:VCALENDAR